BEGIN:VCALENDAR
VERSION:2.0
PRODID:-//wp-events-plugin.com//7.2.3.1//EN
BEGIN:VEVENT
UID:242@bpa-solutions.net
DTSTART;VALUE=DATE:20231102
DTEND;VALUE=DATE:20231104
DTSTAMP:20231025T105614Z
URL:https://www.bpa-solutions.net/events/2023-audit-division-conference/
SUMMARY:2023 Audit Division Conference
DESCRIPTION:As diamond sponsor at the 2023 Audit Division Conference\, Nove
 mber 2-3 in Reno\, NV\, BPA Solutions presents its agile end-to-end QMS so
 ftware to simplify audits and inspections by leveraging your existing Micr
 osoft 365 tools. Discover our Power Apps for audit management\, running on
  any device\, even when offline.\n\nCome to visit our booth and discover h
 ow you can run and manage your audits swiftly and in a cost-effective way!
 \n\nLearn more about the conference.
CATEGORIES:conference
LOCATION:Reno\, Peppermill Resort Spa &amp\; Casino\, Peppermill Resort Spa
  &amp\; Casino\, Reno\, United States
X-APPLE-STRUCTURED-LOCATION;VALUE=URI;X-ADDRESS=Peppermill Resort Spa & Cas
 ino\, Peppermill Resort Spa & Casino\, Reno\, United States;X-APPLE-RADIUS
 =100;X-TITLE=Reno:geo:0,0
END:VEVENT
END:VCALENDAR