BEGIN:VCALENDAR
VERSION:2.0
PRODID:-//wp-events-plugin.com//7.2.3.1//EN
BEGIN:VEVENT
UID:259@bpa-solutions.net
DTSTART;VALUE=DATE:20250910
DTEND;VALUE=DATE:20250912
DTSTAMP:20250808T133839Z
URL:https://www.bpa-solutions.net/events/2025-audit-division-conference/
SUMMARY:2025 Audit Division Conference
DESCRIPTION:As Golden Sponsor at the 2025 Audit Division Conference\, Septe
 mber 10.11 in Reno\, NV\, BPA Solutions presents its intuitive\, secure an
 d AI-driven QMS software to streamline audits and inspections by leveragin
 g your existing Microsoft 365 tools and AI. Discover our latest AI use cas
 es that will change how you handle your daily tasks and learn more about o
 ur 20+ ready-to-use modules such as Audits\, Document Control\, CAPA manag
 ement\, and much more! Learn more about our solutions modules &gt\;\n\nCom
 e to visit our booth and see for yourself how Q-Pilot\, BPA's AI-powered v
 irtual assistant\, can save you precious time when preparing for key audit
 s and searching document references.\n\nTake advantage of the latest techn
 ology to reach your goals faster and better than ever!
CATEGORIES:conference
LOCATION:Reno\, Peppermill Resort Spa &amp\; Casino\, Peppermill Resort Spa
  &amp\; Casino\, Reno\, United States
X-APPLE-STRUCTURED-LOCATION;VALUE=URI;X-ADDRESS=Peppermill Resort Spa & Cas
 ino\, Peppermill Resort Spa & Casino\, Reno\, United States;X-APPLE-RADIUS
 =100;X-TITLE=Reno:geo:0,0
END:VEVENT
END:VCALENDAR