BEGIN:VCALENDAR
VERSION:2.0
PRODID:-//wp-events-plugin.com//7.2.3.1//EN
BEGIN:VEVENT
UID:263@bpa-solutions.net
DTSTART;VALUE=DATE:20260421
DTEND;VALUE=DATE:20260422
DTSTAMP:20260420T133148Z
URL:https://www.bpa-solutions.net/events/2026-swiss-quality-day/
SUMMARY:2026 Swiss Quality Day
DESCRIPTION:As silver sponsor at the 2026 Swiss Quality Day\, April 21\, Ku
 rsaal Bern\, BPA Solutions is proud to present its all-in-one and ready-to
 -use Quality Management platform powered by Microsoft 365 technologies. Di
 scover how BPA Solutions has integrated robust and secure Generative AI fe
 atures in its software enabling you to reach efficient audit readiness and
  learn more about the limitless capabilities of its modules and Power Apps
 .\n\nCome to visit our booth at the Swiss Quality Day 2026 and discover ho
 w you can achieve compliance swiftly and in a cost-effective way!\n\n&nbsp
 \;\nDiscover BPA Pilot
CATEGORIES:conference
LOCATION:Bern\, Switzerland\, Bern\, Switzerland\, Bern\, Switzerland
X-APPLE-STRUCTURED-LOCATION;VALUE=URI;X-ADDRESS=Bern\, Switzerland\, Bern\,
  Switzerland;X-APPLE-RADIUS=100;X-TITLE=Bern\, Switzerland:geo:0,0
END:VEVENT
END:VCALENDAR