BEGIN:VCALENDAR
VERSION:2.0
PRODID:-//wp-events-plugin.com//7.2.3.1//EN
BEGIN:VEVENT
UID:237@bpa-solutions.net
DTSTART;VALUE=DATE:20221012
DTEND;VALUE=DATE:20221015
DTSTAMP:20230518T105733Z
URL:https://www.bpa-solutions.net/events/asq-quality4-2022/
SUMMARY:ASQ Quality 4.0 Summit - 2022
DESCRIPTION:As sponsor at the ASQ Quality 4.0 Summit\, October 12-14 in San
  Antonio (TX)\, BPA Solutions present an agile end-to-end QMS software ali
 gning people\, processes and technology to simplify your quality 4.0 journ
 ey by leveraging your existing Microsoft 365 tools.\n\nJoin us on our boot
 h and discover quick and cost effective initiatives to shift to Quality 4.
 0.\n\nMore information about the conference here.\n\n&nbsp\;\n\n
LOCATION:San Antonio\, TX\, San Antonio\, TX\, San Antonio\, United States
X-APPLE-STRUCTURED-LOCATION;VALUE=URI;X-ADDRESS=San Antonio\, TX\, San Anto
 nio\, United States;X-APPLE-RADIUS=100;X-TITLE=San Antonio\, TX:geo:0,0
END:VEVENT
END:VCALENDAR