BEGIN:VCALENDAR
VERSION:2.0
PRODID:-//wp-events-plugin.com//7.2.3.1//EN
BEGIN:VEVENT
UID:207@bpa-solutions.net
DTSTART:20150929T000000Z
DTEND:20150929T000000Z
DTSTAMP:20230427T055922Z
URL:https://www.bpa-solutions.net/events/bpa-gold-partner-at-sharepointfor
 um-stuttgart-2015/
SUMMARY:BPA Gold Partner at SharePointForum Stuttgart 2015
DESCRIPTION:BPA is Gold Partner and Sponsor at SharePointForum Stuttgart 20
 15\, September 29-30.\n\nOur DCCS Partner will present a seminar on Septem
 ber 29 at 11:30 about how building a professional no-code business solutio
 n using BPA components. As a concrete example\, an integrated construction
  management solution will be presented (Baukasten).\n\nLearn more about Sh
 arePointForum 2015
CATEGORIES:seminars
END:VEVENT
END:VCALENDAR