BEGIN:VCALENDAR
VERSION:2.0
PRODID:-//wp-events-plugin.com//7.2.3.1//EN
BEGIN:VEVENT
UID:262@bpa-solutions.net
DTSTART:20260317T140000Z
DTEND:20260317T144500Z
DTSTAMP:20260318T212002Z
URL:https://www.bpa-solutions.net/events/driving-trust-and-growth-with-iso
 -27001-from-audit-readiness-to-operational-excellence/
SUMMARY:Driving trust and growth with ISO 27001: from audit readiness to op
 erational excellence
DESCRIPTION:Gain the clarity and confidence needed to lead your ISO 27001 j
 ourney successfully and witness a real certification journey with a live I
 SMS demo. Join this live webinar to learn more!
CATEGORIES:webinars
LOCATION:https://www.bpa-solutions.net/events/driving-trust-and-growth-with
 -iso-27001-from-audit-readiness-to-operational-excellence/#:~:text=Watch%2
 0the%20webinar%20recording!
END:VEVENT
END:VCALENDAR