BEGIN:VCALENDAR
VERSION:2.0
PRODID:-//wp-events-plugin.com//7.2.3.1//EN
BEGIN:VEVENT
UID:194@bpa-solutions.net
DTSTART:20140505T000000Z
DTEND:20140505T000000Z
DTSTAMP:20230503T073711Z
URL:https://www.bpa-solutions.net/events/european-sharepoint-conference-20
 14/
SUMMARY:European SharePoint Conference 2014
DESCRIPTION:BPA will exhibit at European SharePoint Conference\, May 5-8 20
 14 in Barcelona\, Spain.
CATEGORIES:conference
LOCATION:Barcelona\, Spain\, Barcelona\, Spain\, Barcelona\, Barcelona\, Sp
 ain
X-APPLE-STRUCTURED-LOCATION;VALUE=URI;X-ADDRESS=Barcelona\, Spain\, Barcelo
 na\, Barcelona\, Spain;X-APPLE-RADIUS=100;X-TITLE=Barcelona\, Spain:geo:0,
 0
END:VEVENT
END:VCALENDAR