BEGIN:VCALENDAR
VERSION:2.0
PRODID:-//wp-events-plugin.com//7.2.3.1//EN
BEGIN:VEVENT
UID:227@bpa-solutions.net
DTSTART:20181108T083000Z
DTEND:20181108T083000Z
DTSTAMP:20230518T121930Z
URL:https://www.bpa-solutions.net/events/forep-2018-yverdon/
SUMMARY:FOREP 2018 - Yverdon
DESCRIPTION:BPA Solutions SA is sponsor and exhibitor at the FOREP 2018 in 
 Yverdon.\n\nVisit us on our booth and discover our regulatory compliance s
 oftware solutions\, with maximal user experience\, built on Office 365 and
  SharePoint.\n\nLearn more about our coming Artificial Intelligence featur
 es.\n\n&nbsp\;\n\n
CATEGORIES:conference
LOCATION:La Marive\, Yverdon\, Suisse\, La Marive\, Yverdon\, Suisse\, La M
 arive\, Yverdon\, Switzerland
X-APPLE-STRUCTURED-LOCATION;VALUE=URI;X-ADDRESS=La Marive\, Yverdon\, Suiss
 e\, La Marive\, Yverdon\, Switzerland;X-APPLE-RADIUS=100;X-TITLE=La Marive
 \, Yverdon\, Suisse:geo:0,0
END:VEVENT
END:VCALENDAR