BEGIN:VCALENDAR
VERSION:2.0
PRODID:-//wp-events-plugin.com//7.2.3.1//EN
BEGIN:VEVENT
UID:230@bpa-solutions.net
DTSTART:20191031T083000Z
DTEND:20191031T083000Z
DTSTAMP:20230503T070305Z
URL:https://www.bpa-solutions.net/events/forep-2019-digital-revolution-4-0
 -challenges/
SUMMARY:FOREP 2019 : Digital Revolution 4.0 & Challenges
DESCRIPTION:The 15th edition of FOREP – a must Excellence &amp\; Quality 
 Conference in Switzerland - will take place on October 31st in Yverdon\, S
 witzerland.\n\nThis year's theme is "The 4.0 revolution and its challenges
 ". As an innovative software editor for quality\, risk and data privacy\, 
 digital revolution is at the center of our concerns.\n\nAs an exhibitor\, 
 BPA Solutions will present disruptive scenarios to improve quality\, simpl
 ify processes and reduce cost:\n\n 	Conversation flows for problem-solving
  processes\n 	Artificial intelligence for object detection and text recogn
 ition\n 	Mobile apps for incident and audit management\n\n&gt\;&gt\; Event
  registration (SAQ site)\n\n----------------------------------------------
 --------------------------------------------------------------------------
 --------------------\n\nLa 15ème édition de cette manifestation\, devenu
 e incontournable en Suisse Romande\, aura lieu le jeudi 31 octobre 2019 au
  centre de conférences La Marive à Yverdon-les-Bains.\n\nLe fil rouge de
  cette année est « La révolution 4.0 et ses challenges» et traitera de
  l’impact de la révolution digitale.\n\nComme chaque année\, BPA Solut
 ions soutient la manifestation en y exposant. En tant qu'éditeur de logic
 iels innovants\, la révolution digitale est naturellement au centre de no
 s préoccupations.\n\nAu-delà de nos logiciels de gestion de la qualité\
 , risques\, RGPD sur Microsoft Office 365\, nous présenterons des scénar
 ios disruptifs pour améliorer la qualité\, simplifier les processus et r
 éduire les coûts:\n\n 	utilisation de flux conversationnel pour la gesti
 on de problèmes\n 	utilisation de l'intelligence artificielle pour la rec
 onnaissance de produits ou de non-conformités\n 	utilisation d'appareils 
 mobiles pour soumettre des incidents ou faire des audits\, avec photograph
 ies et géolocalisation\n\n&gt\;&gt\; Inscription à l'événement (site d
 e la SAQ)
CATEGORIES:conference
LOCATION:La Marive\, Yverdon-les-Bains\, La Marive\, Yverdon-les-Bains\, Yv
 erdon-les-Bains\, Switzerland
X-APPLE-STRUCTURED-LOCATION;VALUE=URI;X-ADDRESS=La Marive\, Yverdon-les-Bai
 ns\, Yverdon-les-Bains\, Switzerland;X-APPLE-RADIUS=100;X-TITLE=La Marive\
 , Yverdon-les-Bains:geo:0,0
END:VEVENT
END:VCALENDAR