BEGIN:VCALENDAR
VERSION:2.0
PRODID:-//wp-events-plugin.com//7.2.3.1//EN
BEGIN:VEVENT
UID:232@bpa-solutions.net
DTSTART:20201029T083000Z
DTEND:20201029T083000Z
DTSTAMP:20230503T062355Z
URL:https://www.bpa-solutions.net/events/forep-2020-performance-yes-but-su
 stainable/
SUMMARY:FOREP 2020: Performance yes\, but Sustainable!
DESCRIPTION:The 16th edition of FOREP – a must Excellence &amp\; Quality 
 Conference in Switzerland - will take place on October 29st in Yverdon\, S
 witzerland.\n\nThis year's theme is "Performance yes\, but sustainable!" I
 n avant-première\, we will present our new designed solutions for global 
 quality and compliance\, built on Microsoft Office 365\, covering topics l
 ike:\n\n 	Conversation flows for improving quality\n 	Artificial intellige
 nce for object detection and text recognition\n 	Power apps for incident a
 nd audit management\n\n&gt\;&gt\; Event registration (SAQ site)\n\n-------
 --------------------------------------------------------------------------
 -----------------------------------------------------------\n\nLa 15ème 
 édition de cette manifestation\, devenue incontournable en Suisse Romande
 \, aura lieu le jeudi 29 octobre 2019 au centre de conférences La Marive 
 à Yverdon-les-Bains.\n\nLe fil rouge de cette année est « Performance o
 ui\, mais durable ».\n\nEn avant-première\, BPA présentera sa nouvelle 
 génération de solutions pour la qualité et conformité globale\, constr
 uite sur Microsoft Office 365\, incluant:\n\n 	les flux conversationnel po
 ur améliorer la qualité\n 	l'intelligence artificielle pour la reconnais
 sance de produits\n 	des apps mobiles pour les audits et incidents\n\n&gt\
 ;&gt\; Inscription à l'événement (site de la SAQ)
CATEGORIES:conference
LOCATION:La Marive\, Yverdon-les-Bains\, La Marive\, Yverdon-les-Bains\, Yv
 erdon-les-Bains\, Switzerland
X-APPLE-STRUCTURED-LOCATION;VALUE=URI;X-ADDRESS=La Marive\, Yverdon-les-Bai
 ns\, Yverdon-les-Bains\, Switzerland;X-APPLE-RADIUS=100;X-TITLE=La Marive\
 , Yverdon-les-Bains:geo:0,0
END:VEVENT
END:VCALENDAR