BEGIN:VCALENDAR
VERSION:2.0
PRODID:-//wp-events-plugin.com//7.2.3.1//EN
BEGIN:VEVENT
UID:244@bpa-solutions.net
DTSTART;VALUE=DATE:20231102
DTEND;VALUE=DATE:20231103
DTSTAMP:20231025T105550Z
URL:https://www.bpa-solutions.net/events/forum-excellence-et-performance-f
 orep-2023/
SUMMARY:Forum Excellence et Performance (FOREP) 2023
DESCRIPTION:Le “FOREP – Forum Excellence &amp\; Performance” est l’
 événement annuel en Suisse romande sur le thème de la gestion de la qua
 lité.\nBPA Solutions SA est partenaire du FOREP depuis sa création et lo
 rs de cette édition 2023 nous présenterons nos solutions innovantes pour
  l’amélioration de la qualité sur les technologies Microsoft 365.\n\nL
 ’événement offre aux participants la possibilité de s’informer sur 
 des sujets d’actualité dans le domaine du développement durable des en
 treprises tels que :\n\n 	la découverte de nouvelles approches dans les d
 omaines de la qualité\, de l’environnement\, de la sécurité et de la 
 gestion des risques\, ainsi que de l’excellence dans les affaires\,\n 	l
 ’évaluation comparative et les meilleures pratiques\,\n 	le renforcemen
 t de la performance des entreprises pour assurer une compétitivité conti
 nue \;\n 	les outils nécessaires pour relever les défis futurs et lutter
  contre la concurrence toujours croissante.\n\nA cette occasion\, les part
 icipants auront l'opportunité d’échanger leurs expériences\, d’éta
 blir de nouveaux réseaux et de maintenir d’anciens contacts.\nL’évè
 nement s’adresse principalement aux dirigeants d’entreprises\, d’org
 anisations et de l’administration publique ainsi qu'aux utilisateurs de 
 l'excellence qui accordent une importance particulière à la gestion de l
 a qualité\, de l'environnement\, de la sécurité et des risques.\n\n&nbs
 p\;
CATEGORIES:conference
LOCATION:Ecublens\, SwissTech Convention Center\, Ecublens\, Switzerland
X-APPLE-STRUCTURED-LOCATION;VALUE=URI;X-ADDRESS=SwissTech Convention Center
 \, Ecublens\, Switzerland;X-APPLE-RADIUS=100;X-TITLE=Ecublens:geo:0,0
END:VEVENT
END:VCALENDAR