BEGIN:VCALENDAR
VERSION:2.0
PRODID:-//wp-events-plugin.com//7.2.3.1//EN
BEGIN:VEVENT
UID:190@bpa-solutions.net
DTSTART:20140303T000000Z
DTEND:20140303T000000Z
DTSTAMP:20240318T053323Z
URL:https://www.bpa-solutions.net/events/sharepoint-conference-2014/
SUMMARY:SharePoint Conference 2014
DESCRIPTION:Join BPA Solutions at the SharePoint Conference in Las Vegas!\n
 In these competitive times\, it’s the companies that leverage technologi
 es that get you ahead of the game. At SharePoint Conference 2014\, your qu
 estions on how to stay competitive\, what tools to use to allow your compa
 ny to move into the future\, and how to create solutions using MS Office a
 nd SharePoint\, will all be covered. BPA Solutions will be at the 2014 Sha
 rePoint conference\, March 3-6\, to answer your questions about how best t
 o leverage SharePoint tools. Visit us at booth 1218 where you can view dem
 os of software products like BPA CRM and BPA Risk\, sample wine and cheese
 \, and talk with SharePoint experts. Come visit the BPA Solutions booth at
  SPC 2014 and you might even win a Surface RT tablet!\n\nContact us to sch
 edule an appointment\nOur Panel of Experts:\nKevin Townsend is responsible
  for professional services for BPA North America.  Having completed multi
 ple product implementations\, Kevin is an BPA engineering rock star.  His
  blog\, “Tips from Townsend”\, are online.\n Rob Manfredi\, director o
 f BPA North America\, is responsible for the daily activities of operation
 s\, including sales\, channel\, marketing and support.  Rob and Kevin are
  frequently referred to as the dynamic duo.\n Belinda Schöni is a seasone
 d veteran of BPA\, having joined the company in 2002. Belinda is responsib
 le for professional services and also the company’s growing human resour
 ces efforts. Belinda speaks fluent French\, German and English.\nContact u
 s to schedule an appointment\n\nDon’t Miss These Product Releases to Enh
 ance Performance!\nOver the coming weeks we are releasing several major pr
 oducts to enhance your SharePoint experience.  We are using SPC2014 in La
 s Vegas as the platform for these releases:\n\n\n 	Full Enterprise Version
  of 2013 for CRM\, Quality and Risk. Recruiting and the new Help Desk will
  follow close behind.\n 	The new BPA Microsoft Office Connector\, with ama
 zing performance and now compatible with Outlook 2010 and 2013. The Office
  connector can connect with any SharePoint 2010 or 2013 site and even with
  SharePoint Online on Office 365. Coming soon: MS Office tools - Word\, Ex
 cel and PowerPoint.\n 	The new native BPA Mobile Solutions for iPhone\, iP
 ad\, and soon Android – take all your BPA and SharePoint info on the roa
 d\, even offline.\n 	New BPA CRM Lite for Office365 in the Microsoft App S
 tore.  This version is not only fully featured but is also free!  An ent
 erprise configurable version will be released later this summer.\n\nContac
 t us to schedule an appointment
CATEGORIES:conference
LOCATION:Las Vegas\, United States\, Las Vegas\, United States\, Las Vegas\
 , Las Vegas\, United States
X-APPLE-STRUCTURED-LOCATION;VALUE=URI;X-ADDRESS=Las Vegas\, United States\,
  Las Vegas\, Las Vegas\, United States;X-APPLE-RADIUS=100;X-TITLE=Las Vega
 s\, United States:geo:0,0
END:VEVENT
END:VCALENDAR