BEGIN:VCALENDAR
VERSION:2.0
PRODID:-//wp-events-plugin.com//7.2.3.1//EN
BEGIN:VEVENT
UID:195@bpa-solutions.net
DTSTART:20140613T000000Z
DTEND:20140717T000000Z
DTSTAMP:20230503T073634Z
URL:https://www.bpa-solutions.net/events/worldwide-partner-conference-2014
 /
SUMMARY:Worldwide Partner Conference 2014
DESCRIPTION:
CATEGORIES:conference
LOCATION:Washington\, D.C.\, Washington\, D.C.\, Washington\, United States
X-APPLE-STRUCTURED-LOCATION;VALUE=URI;X-ADDRESS=Washington\, D.C.\, Washing
 ton\, United States;X-APPLE-RADIUS=100;X-TITLE=Washington\, D.C.:geo:0,0
END:VEVENT
END:VCALENDAR